BEGIN:VCALENDAR
VERSION:2.0
PRODID:-//Strata Community - ECPv6.9.0//NONSGML v1.0//EN
CALSCALE:GREGORIAN
METHOD:PUBLISH
X-WR-CALNAME:Strata Community
X-ORIGINAL-URL:https://inside.strata.community
X-WR-CALDESC:Events for Strata Community
REFRESH-INTERVAL;VALUE=DURATION:PT1H
X-Robots-Tag:noindex
X-PUBLISHED-TTL:PT1H
BEGIN:VTIMEZONE
TZID:UTC
BEGIN:STANDARD
TZOFFSETFROM:+0000
TZOFFSETTO:+0000
TZNAME:UTC
DTSTART:20220101T000000
END:STANDARD
END:VTIMEZONE
BEGIN:VEVENT
DTSTART;TZID=UTC:20221026T140000
DTEND;TZID=UTC:20221026T173000
DTSTAMP:20260425T231322
CREATED:20220925T173137Z
LAST-MODIFIED:20220925T173138Z
UID:3558-1666792800-1666805400@inside.strata.community
SUMMARY:SCA QLD The Mini Debate (Brisbane)
DESCRIPTION:The Mini Debate provides industry news and updates\, showcasing the mini debate and exciting and innovative products and services to members across Queensland.
URL:https://inside.strata.community/event/sca-qld-the-mini-debate-brisbane/
ORGANIZER;CN="SCA (Qld)":MAILTO:admin.qld@strata.community
END:VEVENT
BEGIN:VEVENT
DTSTART;TZID=UTC:20221026T083000
DTEND;TZID=UTC:20221027T170000
DTSTAMP:20260425T231322
CREATED:20221005T104457Z
LAST-MODIFIED:20221005T104458Z
UID:3591-1666773000-1666890000@inside.strata.community
SUMMARY:SCA (NSW) Annual Convention
DESCRIPTION:Another year has passed and its time for our Annual Convention. One of our aims at SCA (NSW) is to make the impossible possible. We want to bust open doors and give you access to people and experiences you may have only ever dreamt about. This annual event offers valued networking opportunities and is supported by the very popular trade exhibition\, which showcases the latest products and services available to the strata industry.
URL:https://inside.strata.community/event/sca-nsw-annual-convention/
LOCATION:Hyatt Regency Sydney\, 161 Sussex St\, Sydney NSW 2000
END:VEVENT
BEGIN:VEVENT
DTSTART;TZID=UTC:20221025T100000
DTEND;TZID=UTC:20221025T110000
DTSTAMP:20260425T231322
CREATED:20220925T174906Z
LAST-MODIFIED:20220925T174919Z
UID:3582-1666692000-1666695600@inside.strata.community
SUMMARY:QLD CPD Webinar: Is it an EGM or AGM?
DESCRIPTION:This session will help put clarity on the grey areas between the EGM and AGM. Peter Hunt and Karen Thompson will address when an owner calls an EGM\, what do you need to look for to ensure its valid and what happens to those motions? In contrast when an AGM is held outside of the prescribed period what foreseeable impacts can occur in addition to the potential of the meeting being invalid. Going into the finer details of minutes\, returning officers\, caretaker agreements\, secret ballots and documenting\, this presentation is not to be missed.
URL:https://inside.strata.community/event/qld-cpd-webinar-is-it-an-egm-or-agm/
ORGANIZER;CN="SCA (Qld)":MAILTO:admin.qld@strata.community
END:VEVENT
BEGIN:VEVENT
DTSTART;TZID=UTC:20221021T180000
DTEND;TZID=UTC:20221021T233000
DTSTAMP:20260425T231322
CREATED:20220920T221431Z
LAST-MODIFIED:20220920T221432Z
UID:3546-1666375200-1666395000@inside.strata.community
SUMMARY:SCA (ACT) 2022 CHU Strata Community Awards
DESCRIPTION:Across eleven categories\, the annual SCA (ACT) Strata Community Awards for Excellence recognises and rewards businesses and individuals who make a significant contribution to the strata industry and community. The Gala Dinner and Awards Presentation will be held on Friday 21 October 2022.
URL:https://inside.strata.community/event/sca-act-2022-chu-strata-community-awards/
ORGANIZER;CN="SCA(ACT)":MAILTO:education@strata.community
END:VEVENT
BEGIN:VEVENT
DTSTART;TZID=UTC:20221021T140000
DTEND;TZID=UTC:20221021T163000
DTSTAMP:20260425T231322
CREATED:20220908T143044Z
LAST-MODIFIED:20220908T143045Z
UID:3472-1666360800-1666369800@inside.strata.community
SUMMARY:Education Reading Plans Beginner and Advanced
DESCRIPTION:Location: Mecure Hotel\, Cnr Flemington Road & Harker Street\, North Melbourne\, 3051 \n\n\n\n​ \n\n\n\nA face-to-face session and workshop that will highlight how to read and interpret plans (both beginner and advanced). Other areas of content; funding agreements\, stratum and company shares\, and car stackers. 
URL:https://inside.strata.community/event/education-reading-plans-beginner-and-advanced/
ORGANIZER;CN="SCA (VIC)":MAILTO:info.vic@strata.community
END:VEVENT
BEGIN:VEVENT
DTSTART;TZID=UTC:20221020T173000
DTEND;TZID=UTC:20221020T203000
DTSTAMP:20260425T231322
CREATED:20220908T142710Z
LAST-MODIFIED:20220908T142711Z
UID:3470-1666287000-1666297800@inside.strata.community
SUMMARY:Committee Training for Committee Members
DESCRIPTION:This course is designed for Committee Members. It teaches them about the importance of Governance\, Roles and Responsibilities\, Meetings and Effective Communication.
URL:https://inside.strata.community/event/committee-training-for-committee-members-2/
ORGANIZER;CN="SCA (VIC)":MAILTO:info.vic@strata.community
END:VEVENT
BEGIN:VEVENT
DTSTART;TZID=UTC:20221020T121500
DTEND;TZID=UTC:20221020T131500
DTSTAMP:20260425T231322
CREATED:20220920T221314Z
LAST-MODIFIED:20220920T221315Z
UID:3544-1666268100-1666271700@inside.strata.community
SUMMARY:Annual General Meeting
DESCRIPTION:Save the date for the upcoming SCA (ACT) AGM.
URL:https://inside.strata.community/event/annual-general-meeting/
ORGANIZER;CN="SCA(ACT)":MAILTO:education@strata.community
END:VEVENT
BEGIN:VEVENT
DTSTART;TZID=UTC:20221020T100000
DTEND;TZID=UTC:20221020T110000
DTSTAMP:20260425T231322
CREATED:20220925T174744Z
LAST-MODIFIED:20220925T174745Z
UID:3580-1666260000-1666263600@inside.strata.community
SUMMARY:QLD CPD Webinar: Schemes Termination Process & Amalgamation of Schemes
DESCRIPTION:While there is a high threshold of only resolution without dissent to meet\, James Nickless will delve into the specific requirements to terminate a scheme\, detailing the steps of what happens next and discuss schemes which have been terminated by Owners and the real impediments to re-development.
URL:https://inside.strata.community/event/qld-cpd-webinar-schemes-termination-process-amalgamation-of-schemes/
ORGANIZER;CN="SCA (Qld)":MAILTO:admin.qld@strata.community
END:VEVENT
BEGIN:VEVENT
DTSTART;TZID=UTC:20221020T080000
DTEND;TZID=UTC:20221022T170000
DTSTAMP:20260425T231322
CREATED:20220908T143807Z
LAST-MODIFIED:20220908T143808Z
UID:3481-1666252800-1666458000@inside.strata.community
SUMMARY:National Principals Retreat
DESCRIPTION:Principals play a vital role to promote appropriate\, reasonable\, fair\, respectful and courteous behaviour in the workplace at all times. Subject matter expert and facilitator\, Michelle Bihary\, will take you\, and fellow principal’s across Australia and New Zealand\, on a 2-day journey with theoretically informed\, practical solutions and strategies. Michelle’s approach can be implemented quickly and immediately to provide tangible results. 
URL:https://inside.strata.community/event/national-principals-retreat/
END:VEVENT
BEGIN:VEVENT
DTSTART;TZID=UTC:20221019T083000
DTEND;TZID=UTC:20221019T113000
DTSTAMP:20260425T231322
CREATED:20220908T142559Z
LAST-MODIFIED:20220908T142600Z
UID:3468-1666168200-1666179000@inside.strata.community
SUMMARY:Committee Training for Strata Managers
DESCRIPTION:Find out what your Committee’s stand to gain when they attend this course and ensure you are ready to support and implement what they learn. + Stay ahead of this curve\, be at your best and be ready to work alongside and encourage an active and engaged committee.
URL:https://inside.strata.community/event/committee-training-for-strata-managers/
ORGANIZER;CN="SCA (VIC)":MAILTO:info.vic@strata.community
END:VEVENT
BEGIN:VEVENT
DTSTART;TZID=UTC:20221018T100000
DTEND;TZID=UTC:20221018T110000
DTSTAMP:20260425T231322
CREATED:20220925T174626Z
LAST-MODIFIED:20220925T174628Z
UID:3578-1666087200-1666090800@inside.strata.community
SUMMARY:QLD CPD Webinar: Chapter 6: BC Management\, Contractors and Letting Agents
DESCRIPTION:Whether a seasoned Body Corporate Manager or learning the core essentials this presentation will be a part of the Strata Regulations and Act revisited series. Addressing section by section of the Body Corporate Legislation and Regulation Modules for Queensland\, Tom Robinson will focus this session on Chapter 6: Body Corporate Manager\, service contractors and letting agents
URL:https://inside.strata.community/event/qld-cpd-webinar-chapter-6-bc-management-contractors-and-letting-agents/
ORGANIZER;CN="SCA (Qld)":MAILTO:admin.qld@strata.community
END:VEVENT
BEGIN:VEVENT
DTSTART;TZID=UTC:20221014T120000
DTEND;TZID=UTC:20221014T120000
DTSTAMP:20260425T231322
CREATED:20220908T145052Z
LAST-MODIFIED:20220908T145053Z
UID:3495-1665748800-1665748800@inside.strata.community
SUMMARY:Senior Leaders Luncheon
DESCRIPTION:Time TBC \n\n\n\nAll Senior Leaders are invited to join the Senior Leaders Luncheon\, where topics relevant to industry leaders will be discussed over a formal lunch. 
URL:https://inside.strata.community/event/senior-leaders-luncheon/
ORGANIZER;CN="SCA (WA)":MAILTO:admin.wa@strata.community
END:VEVENT
BEGIN:VEVENT
DTSTART;TZID=UTC:20221013T160000
DTEND;TZID=UTC:20221013T183000
DTSTAMP:20260425T231322
CREATED:20220925T172941Z
LAST-MODIFIED:20220925T172954Z
UID:3556-1665676800-1665685800@inside.strata.community
SUMMARY:SCA QLD 2022 Annual General Meeting
DESCRIPTION:
URL:https://inside.strata.community/event/sca-qld-2022-annual-general-meeting/
ORGANIZER;CN="SCA (Qld)":MAILTO:admin.qld@strata.community
END:VEVENT
BEGIN:VEVENT
DTSTART;TZID=UTC:20221012T140000
DTEND;TZID=UTC:20221012T170000
DTSTAMP:20260425T231322
CREATED:20220920T222159Z
LAST-MODIFIED:20220920T222200Z
UID:3554-1665583200-1665594000@inside.strata.community
SUMMARY:SCA QLD The Mini Debate (Gold Coast)
DESCRIPTION:The Mini Debate provides industry news and updates\, showcasing the mini debate and exciting and innovative products and services to members across Queensland.SCA (Qld) invites you to an afternoon of conversation and networking\, where you will hear the latest on strata issues and advocacy\, followed by an opportunity to watch two of our industries finest go head to head in our mini debate (debate topics differ for each event). It’s sure to be fierce\, fiery but ultimately a friendly forum.From building defects to BUGTA\, BCCMA proposals to changes coming to the Office of the Commissioner for Body Corporate and Community Management\, SCA (Qld) has a huge amount of advocacy to update all members on. Whether it is policy ideas from our strata hackathon\, discussion about recent appearances before Parliamentary Committees or recent media appearances\, come along and make sure you don’t miss a beat about the changes we are bringing to the industry. This Mini Debate will once again see SCA (Qld) Vice President\, Chris Irons adjudicate another fierce debate between Michael Kleinschmidt and Tom Robinson (for the affirmative) as they showdown against Juliette Nairn and Jessica Cannon (for the negative)\, taking a deep dive into the Body Corporate and Community Management Act and should it include a charter of owners rights to protect the interest  of owners. Who ultimately wins will be in Chris’ hands\, but one thing is for certain: the gloves will be off and the winner will be strata! And of course\, you!So come along and make sure you don’t miss this new event. 
URL:https://inside.strata.community/event/sca-qld-the-mini-debate-gold-coast/
ORGANIZER;CN="SCA (Qld)":MAILTO:admin.qld@strata.community
END:VEVENT
BEGIN:VEVENT
DTSTART;TZID=UTC:20221012T080000
DTEND;TZID=UTC:20221012T110000
DTSTAMP:20260425T231322
CREATED:20220920T221125Z
LAST-MODIFIED:20220920T221126Z
UID:3540-1665561600-1665572400@inside.strata.community
SUMMARY:SCA (ACT) Cladding Workshop
DESCRIPTION:IN PERSON – 8:00AM – 11:00AM \n\n\n\nJoin us for breakfast followed by a session with Paynter Dixon where they will talk us through what is ACP/combustible cladding\, explain the replacement process along with the disruptions and risks associated with the replacement of cladding or waiting.
URL:https://inside.strata.community/event/sca-act-cladding-workshop/
ORGANIZER;CN="SCA(ACT)":MAILTO:education@strata.community
END:VEVENT
BEGIN:VEVENT
DTSTART;TZID=UTC:20221011T140000
DTEND;TZID=UTC:20221011T170000
DTSTAMP:20260425T231322
CREATED:20220920T222012Z
LAST-MODIFIED:20220920T222013Z
UID:3552-1665496800-1665507600@inside.strata.community
SUMMARY:SCA QLD The Mini Debate (Sunshine Coast)
DESCRIPTION:
URL:https://inside.strata.community/event/sca-qld-the-mini-debate-sunshine-coast/
ORGANIZER;CN="SCA (Qld)":MAILTO:admin.qld@strata.community
END:VEVENT
BEGIN:VEVENT
DTSTART;TZID=UTC:20221010T100000
DTEND;TZID=UTC:20221010T160000
DTSTAMP:20260425T231322
CREATED:20220908T141919Z
LAST-MODIFIED:20220908T142418Z
UID:3462-1665396000-1665417600@inside.strata.community
SUMMARY:A 100 - Online learning module and Compulsory Interactive Workshop
DESCRIPTION:The A100 is now a blended learning program that includes a combination of both online learning (4 days) of self-paced learning and a compulsory interactive workshop that is included in the cost. 
URL:https://inside.strata.community/event/a-100-online-learning-module-and-compulsory-interactive-workshop/
ORGANIZER;CN="SCA (VIC)":MAILTO:info.vic@strata.community
END:VEVENT
BEGIN:VEVENT
DTSTART;TZID=UTC:20221007T120000
DTEND;TZID=UTC:20221007T140000
DTSTAMP:20260425T231322
CREATED:20220920T221859Z
LAST-MODIFIED:20220920T221900Z
UID:3550-1665144000-1665151200@inside.strata.community
SUMMARY:SCA QLD LUNCHEON
DESCRIPTION:An opportunity for industry members to discuss some of the industry’s most pressing issues\, in a relaxed environment. \n\n\n\nSCA (Qld) invites you to take a breather and join us for a luncheon\, hosted by Board Director\, Shane Devenish\, on Friday\, 7 October 2022. It’s been a while since we last caught up\, so let’s take a moment over lunch to discuss the issues affecting our industry and share fresh ideas and also take a moment to relax. Come along\, laugh\, eat and enjoy a delicious lunch on us. 
URL:https://inside.strata.community/event/sca-qld-luncheon/
ORGANIZER;CN="SCA (Qld)":MAILTO:admin.qld@strata.community
END:VEVENT
BEGIN:VEVENT
DTSTART;TZID=UTC:20221007T120000
DTEND;TZID=UTC:20221007T123000
DTSTAMP:20260425T231322
CREATED:20220908T141733Z
LAST-MODIFIED:20220908T142144Z
UID:3460-1665144000-1665145800@inside.strata.community
SUMMARY:Vodcast: Committee Conversations
DESCRIPTION:Let’s start by discussing some controversial topics from a list that continues to grow.
URL:https://inside.strata.community/event/vodcast-committee-conversations/
ORGANIZER;CN="SCA (VIC)":MAILTO:info.vic@strata.community
END:VEVENT
BEGIN:VEVENT
DTSTART;TZID=UTC:20221005T090000
DTEND;TZID=UTC:20221007T160000
DTSTAMP:20260425T231322
CREATED:20220925T174501Z
LAST-MODIFIED:20220925T174502Z
UID:3576-1664960400-1665158400@inside.strata.community
SUMMARY:QLD A100
DESCRIPTION:A100: This training will be delivered over 3 days to attendees face to face. This comprehensive strata community management course provides a practical overview for new people joining the world of Strata Management; it is an essential review for veteran managers and an advanced course for lot owners and committee members. Successful completion of this course is the first step in obtaining a professional accreditation from SCA (Qld) in Strata Community Management as it is part of the pre-requisite for entering the SCA (Qld) Accreditation Pathway.
URL:https://inside.strata.community/event/qld-a100/
ORGANIZER;CN="SCA (Qld)":MAILTO:admin.qld@strata.community
END:VEVENT
BEGIN:VEVENT
DTSTART;TZID=UTC:20221004T180000
DTEND;TZID=UTC:20221004T200000
DTSTAMP:20260425T231322
CREATED:20220908T144905Z
LAST-MODIFIED:20220908T144906Z
UID:3493-1664906400-1664913600@inside.strata.community
SUMMARY:Owner Forum - Insurance 
DESCRIPTION:In an exclusive owner event\, join us to learn about all things insurance.
URL:https://inside.strata.community/event/owner-forum-insurance/
ORGANIZER;CN="SCA (WA)":MAILTO:admin.wa@strata.community
END:VEVENT
BEGIN:VEVENT
DTSTART;TZID=UTC:20221004T100000
DTEND;TZID=UTC:20221004T110000
DTSTAMP:20260425T231322
CREATED:20220925T174248Z
LAST-MODIFIED:20220925T174249Z
UID:3574-1664877600-1664881200@inside.strata.community
SUMMARY:QLD CPD Feature Webinar: Inflationary Cost Pressures
DESCRIPTION:This feature webinar designed specifically for our members\, will facilitated by our President\, Kristi Kinast to raise awareness on a very important and topical subject. Delving into managing inflationary issues and communicate this to your Bodies Corporate. This session will be an open panel discussion on the inflationary cost pressures impacting Strata and Bodies Corporate Management. Our expert panellist will provide advice on how best to manage these cost impacts throughout the chain (i.e. strata manager to bodies corporate\, then bodies corporate to the owners).
URL:https://inside.strata.community/event/qld-cpd-feature-webinar-inflationary-cost-pressures/
ORGANIZER;CN="SCA (Qld)":MAILTO:admin.qld@strata.community
END:VEVENT
BEGIN:VEVENT
DTSTART;TZID=UTC:20220929T160000
DTEND;TZID=UTC:20220929T170000
DTSTAMP:20260425T231322
CREATED:20220920T215003Z
LAST-MODIFIED:20220920T215005Z
UID:3528-1664467200-1664470800@inside.strata.community
SUMMARY:Annual General Meeting + Sundowner
DESCRIPTION:Save the date for the upcoming SCA (WA) AGM
URL:https://inside.strata.community/event/annual-general-meeting-sundowner-2/
ORGANIZER;CN="SCA (WA)":MAILTO:admin.wa@strata.community
END:VEVENT
BEGIN:VEVENT
DTSTART;TZID=UTC:20220928T113000
DTEND;TZID=UTC:20220928T123000
DTSTAMP:20260425T231322
CREATED:20220908T140434Z
LAST-MODIFIED:20220908T142125Z
UID:3455-1664364600-1664368200@inside.strata.community
SUMMARY:SCA (Vic) 2022 Election Campaign Launch
DESCRIPTION:Come and join us as we preview the 2022 Victorian state election\, in this one and a half hour session on Wednesday\, 28 September\, which will cover: \n\n\n\nA summary of the key issues concerning the Victorian strata and property industries\, and wider economy.SCA (Vic) 2022 Victorian Election priorities.SCA (Vic) media and government relations activities.Everything you need to know about the upcoming election.
URL:https://inside.strata.community/event/sca-vic-2022-election-campaign-launch/
ORGANIZER;CN="SCA (VIC)":MAILTO:info.vic@strata.community
END:VEVENT
BEGIN:VEVENT
DTSTART;TZID=UTC:20220921T170000
DTEND;TZID=UTC:20220921T203000
DTSTAMP:20260425T231322
CREATED:20220920T220921Z
LAST-MODIFIED:20220920T220922Z
UID:3536-1663779600-1663792200@inside.strata.community
SUMMARY:SCA (ACT) Strata Executive Committee Training
DESCRIPTION:IN PERSON – 5:30PM – 8:30PM \n\n\n\nThis course is designed and dedicated to the education of Strata Executive Committee Members and Chair people. It teaches them about the importance of Governance\, Roles and Responsibilities\, Meetings and Effective Communication. It includes an overview of these areas of responsibility and provides clarity on the Committee’s role\, purpose and function.
URL:https://inside.strata.community/event/sca-act-strata-executive-committee-training/
ORGANIZER;CN="SCA (ACT)":MAILTO:education@strata.community
END:VEVENT
BEGIN:VEVENT
DTSTART;TZID=UTC:20220915T080000
DTEND;TZID=UTC:20220916T170000
DTSTAMP:20260425T231322
CREATED:20220908T140943Z
LAST-MODIFIED:20220908T142028Z
UID:3458-1663228800-1663347600@inside.strata.community
SUMMARY:VIC - Symposium 2022
DESCRIPTION:The overarching theme of this year’s Symposium is “The Human Factor”\, which refers to job factors\, human behaviours\, how we work\, and the environment.  There will be an excellent array of speakers and some of the topics will include\, managing emergencies\, communication\, leadership\, negotiation\, and legislation all of which relate to our theme.  
URL:https://inside.strata.community/event/vic-symposium-2022/
ORGANIZER;CN="SCA (VIC)":MAILTO:info.vic@strata.community
END:VEVENT
BEGIN:VEVENT
DTSTART;TZID=UTC:20220909T080000
DTEND;TZID=UTC:20220909T170000
DTSTAMP:20260425T231322
CREATED:20220908T144742Z
LAST-MODIFIED:20220908T144743Z
UID:3491-1662710400-1662742800@inside.strata.community
SUMMARY:Annual General Meeting + Sundowner
DESCRIPTION:Save the date for the upcoming SCA (WA) AGM.
URL:https://inside.strata.community/event/annual-general-meeting-sundowner/
ORGANIZER;CN="SCA (WA)":MAILTO:admin.wa@strata.community
END:VEVENT
BEGIN:VEVENT
DTSTART;TZID=UTC:20220610T080000
DTEND;TZID=UTC:20220610T170000
DTSTAMP:20260425T231322
CREATED:20210910T170941Z
LAST-MODIFIED:20210911T154549Z
UID:1150-1654848000-1654880400@inside.strata.community
SUMMARY:SCA (WA) Strata Fundamentals - Meetings
DESCRIPTION:Time TBC – More information coming soon! \n\n\n\n\n\n\n\n\n\nhttps://www.wa.strata.community/wa-activities
URL:https://inside.strata.community/event/strata-fundamentals-meetings/
CATEGORIES:Education,Events,Strata Professional
ORGANIZER;CN="SCA (WA)":MAILTO:admin.wa@strata.community
END:VEVENT
BEGIN:VEVENT
DTSTART;TZID=UTC:20220530T000000
DTEND;TZID=UTC:20220601T235959
DTSTAMP:20260425T231322
CREATED:20220213T164236Z
LAST-MODIFIED:20220213T164237Z
UID:2436-1653868800-1654127999@inside.strata.community
SUMMARY:2022 SCA Australia and New Zealand Conference
DESCRIPTION:The SCA Australia and New Zealand Conference is heading to Melbourne in 2022. The Conference Program will be held at the Melbourne Convention Centre over 31 May – 1 June 2022 with a welcome cocktail party in the evening on 30 May and the Australasia Awards in the evening on 1 June. There will also be a Principals Forum during the day on 30 May. \n\n\n\n​ \n\n\n\nThe SCA Conference is the highlight of the industry’s annual calendar\, bringing together colleagues across all our regions to collaborate\, network and share knowledge. \n\n\n\nThe theme is Liveable Future. What is strata’s role in the United Nations 17 sustainable development goals (SDGs). To learn the history of these goals visit sdgs.un.org/goals. Our full program of speakers will be released in the coming weeks.
URL:https://inside.strata.community/event/2022-sca-australia-and-new-zealand-conference/
LOCATION:1 Convention Centre Pl\, South Wharf VIC 3006
CATEGORIES:Education,Events,Networking
ATTACH;FMTTYPE=image/png:https://inside.strata.community/wp-content/uploads/2022/02/NAT-Conference-Logo-2022.png
ORGANIZER;CN="SCA National":MAILTO:marketing@strata.community
END:VEVENT
BEGIN:VEVENT
DTSTART;TZID=UTC:20220515T080000
DTEND;TZID=UTC:20220515T170000
DTSTAMP:20260425T231322
CREATED:20210910T170143Z
LAST-MODIFIED:20210911T154510Z
UID:1143-1652601600-1652634000@inside.strata.community
SUMMARY:SCA (WA) SMPS Working Group
DESCRIPTION:Time TBC – More information coming soon! \n\n\n\n\n\n\n\n\n\nhttps://www.wa.strata.community/wa-activities
URL:https://inside.strata.community/event/smps-working-group-3/
CATEGORIES:Education,Events,Strata Professional
ORGANIZER;CN="SCA (WA)":MAILTO:admin.wa@strata.community
END:VEVENT
END:VCALENDAR