BEGIN:VCALENDAR
VERSION:2.0
PRODID:-//Strata Community - ECPv6.9.0//NONSGML v1.0//EN
CALSCALE:GREGORIAN
METHOD:PUBLISH
X-WR-CALNAME:Strata Community
X-ORIGINAL-URL:https://inside.strata.community
X-WR-CALDESC:Events for Strata Community
REFRESH-INTERVAL;VALUE=DURATION:PT1H
X-Robots-Tag:noindex
X-PUBLISHED-TTL:PT1H
BEGIN:VTIMEZONE
TZID:UTC
BEGIN:STANDARD
TZOFFSETFROM:+0000
TZOFFSETTO:+0000
TZNAME:UTC
DTSTART:20220101T000000
END:STANDARD
TZID:Australia/Sydney
BEGIN:STANDARD
TZOFFSETFROM:+1100
TZOFFSETTO:+1000
TZNAME:AEST
DTSTART:20220402T160000
END:STANDARD
BEGIN:DAYLIGHT
TZOFFSETFROM:+1000
TZOFFSETTO:+1100
TZNAME:AEDT
DTSTART:20221001T160000
END:DAYLIGHT
BEGIN:STANDARD
TZOFFSETFROM:+1100
TZOFFSETTO:+1000
TZNAME:AEST
DTSTART:20230401T160000
END:STANDARD
BEGIN:DAYLIGHT
TZOFFSETFROM:+1000
TZOFFSETTO:+1100
TZNAME:AEDT
DTSTART:20230930T160000
END:DAYLIGHT
END:VTIMEZONE
BEGIN:VEVENT
DTSTART;TZID=UTC:20230217T120000
DTEND;TZID=UTC:20230217T173000
DTSTAMP:20260426T003007
CREATED:20220925T174007Z
LAST-MODIFIED:20220925T174008Z
UID:3572-1676635200-1676655000@inside.strata.community
SUMMARY:SCA QLD Sailing Day
DESCRIPTION:
URL:https://inside.strata.community/event/sca-qld-sailing-day/
ORGANIZER;CN="SCA (Qld)":MAILTO:admin.qld@strata.community
END:VEVENT
BEGIN:VEVENT
DTSTART;TZID=Australia/Sydney:20230216T080000
DTEND;TZID=Australia/Sydney:20230216T170000
DTSTAMP:20260426T003007
CREATED:20220920T215420Z
LAST-MODIFIED:20220920T220036Z
UID:3530-1676534400-1676566800@inside.strata.community
SUMMARY:Quarterly SAT Case Update
DESCRIPTION:Time TBC \n\n\n\nLearn about recent SAT cases and their significance to the strata industry in this information packed session.
URL:https://inside.strata.community/event/quarterly-sat-case-update-2/
ORGANIZER;CN="SCA (WA)":MAILTO:admin.wa@strata.community
END:VEVENT
BEGIN:VEVENT
DTSTART;TZID=UTC:20230209T080000
DTEND;TZID=UTC:20230209T170000
DTSTAMP:20260426T003007
CREATED:20220908T145630Z
LAST-MODIFIED:20220908T145631Z
UID:3503-1675929600-1675962000@inside.strata.community
SUMMARY:Annual Outlook Seminar 
DESCRIPTION:Time TBC \n\n\n\nOur Annual Outlook Seminar provides an insight into the year ahead\, offering an opportunity for senior leaders and members to prepare for the upcoming year.
URL:https://inside.strata.community/event/annual-outlook-seminar-2/
ORGANIZER;CN="SCA (WA)":MAILTO:admin.wa@strata.community
END:VEVENT
BEGIN:VEVENT
DTSTART;TZID=Australia/Sydney:20230201T173000
DTEND;TZID=Australia/Sydney:20230201T190000
DTSTAMP:20260426T003007
CREATED:20220925T173916Z
LAST-MODIFIED:20220925T173917Z
UID:3570-1675272600-1675278000@inside.strata.community
SUMMARY:SCA QLD Happy Hour Handshakes
DESCRIPTION:
URL:https://inside.strata.community/event/sca-qld-happy-hour-handshakes/
ORGANIZER;CN="SCA (Qld)":MAILTO:admin.qld@strata.community
END:VEVENT
BEGIN:VEVENT
DTSTART;TZID=UTC:20221209T080000
DTEND;TZID=UTC:20221209T170000
DTSTAMP:20260426T003007
CREATED:20220908T144005Z
LAST-MODIFIED:20220908T144006Z
UID:3487-1670572800-1670605200@inside.strata.community
SUMMARY:SCA (Vic) End of Year Christmas Event
DESCRIPTION:
URL:https://inside.strata.community/event/sca-vic-end-of-year-christmas-event/
ORGANIZER;CN="SCA (VIC)":MAILTO:info.vic@strata.community
END:VEVENT
BEGIN:VEVENT
DTSTART;TZID=UTC:20221208T173000
DTEND;TZID=UTC:20221208T203000
DTSTAMP:20260426T003007
CREATED:20220925T173737Z
LAST-MODIFIED:20220925T173738Z
UID:3568-1670520600-1670531400@inside.strata.community
SUMMARY:SCA QLD End of Year Networking (Brisbane)
DESCRIPTION:An evening for members to catch up\, reflect on the year with some festive cheer and network with other members\, in a casual setting. \n\n\n\nSCA (QLD) End of Year Networking is all about celebrating in a relaxed environment\, leaving the stress of work behind\, and taking the time to enjoy each other in a social setting.  
URL:https://inside.strata.community/event/sca-qld-end-of-year-networking-brisbane/
ORGANIZER;CN="SCA (Qld)":MAILTO:admin.qld@strata.community
END:VEVENT
BEGIN:VEVENT
DTSTART;TZID=UTC:20221207T173000
DTEND;TZID=UTC:20221207T203000
DTSTAMP:20260426T003007
CREATED:20220925T173633Z
LAST-MODIFIED:20220925T173635Z
UID:3566-1670434200-1670445000@inside.strata.community
SUMMARY:SCA QLD End of Year Networking (Sunshine Coast)
DESCRIPTION:An evening for members to catch up\, reflect on the year with some festive cheer and network with other members\, in a casual setting. \n\n\n\nSCA (QLD) End of Year Networking is all about celebrating in a relaxed environment\, leaving the stress of work behind\, and taking the time to enjoy each other in a social setting.  
URL:https://inside.strata.community/event/sca-qld-end-of-year-networking-sunshine-coast/
ORGANIZER;CN="SCA (Qld)":MAILTO:admin.qld@strata.community
END:VEVENT
BEGIN:VEVENT
DTSTART;TZID=UTC:20221202T000000
DTEND;TZID=UTC:20221202T003000
DTSTAMP:20260426T003007
CREATED:20220908T143909Z
LAST-MODIFIED:20220908T143910Z
UID:3485-1669939200-1669941000@inside.strata.community
SUMMARY:Vodcast: Committee Conversations
DESCRIPTION:Let’s start by discussing some controversial topics from a list that continues to grow.
URL:https://inside.strata.community/event/vodcast-committee-conversations-3/
ORGANIZER;CN="SCA (VIC)":MAILTO:info.vic@strata.community
END:VEVENT
BEGIN:VEVENT
DTSTART;TZID=UTC:20221201T080000
DTEND;TZID=UTC:20221201T170000
DTSTAMP:20260426T003007
CREATED:20220908T145523Z
LAST-MODIFIED:20221005T104923Z
UID:3501-1669881600-1669914000@inside.strata.community
SUMMARY:Christmas Party (WA)
DESCRIPTION:Time TBC \n\n\n\nMore information coming soon!
URL:https://inside.strata.community/event/christmas-party-2/
ORGANIZER;CN="SCA (WA)":MAILTO:admin.wa@strata.community
END:VEVENT
BEGIN:VEVENT
DTSTART;TZID=UTC:20221129T173000
DTEND;TZID=UTC:20221129T203000
DTSTAMP:20260426T003007
CREATED:20220925T173518Z
LAST-MODIFIED:20220925T173520Z
UID:3564-1669743000-1669753800@inside.strata.community
SUMMARY:SCA QLD End of Year Networking (Gold Coast)
DESCRIPTION:An evening for members to catch up\, reflect on the year with some festive cheer and network with other members\, in a casual setting. \n\n\n\nSCA (QLD) End of Year Networking is all about celebrating in a relaxed environment\, leaving the stress of work behind\, and taking the time to enjoy each other in a social setting.  
URL:https://inside.strata.community/event/sca-qld-end-of-year-networking-gold-coast/
ORGANIZER;CN="SCA (Qld)":MAILTO:admin.qld@strata.community
END:VEVENT
BEGIN:VEVENT
DTSTART;TZID=UTC:20221125T180000
DTEND;TZID=UTC:20221125T210000
DTSTAMP:20260426T003007
CREATED:20221005T104801Z
LAST-MODIFIED:20221005T104903Z
UID:3597-1669399200-1669410000@inside.strata.community
SUMMARY:Christmas Party (NSW)
DESCRIPTION:The weather outside may be frightful\, but a cocktail party is most delightful! Come and have a holly jolly time at the SCA (NSW) Christmas Party. \n\n\n\nLet’s get together for some holiday cheer\, for Christmas is very near. It is a night to relax and enjoy yourself. \n\n\n\nFrom SCA (NSW)\, we hope to see you there. \n\n\n\nImportant Information\n\n\n\nDue to limited spots registrations will be pending until you receive formal confirmation from SCA (NSW). \n\n\n\nRegistrations will be confirmed at the discretion of SCA (NSW) taking into consideration first come first served basis. \n\n\n\nPlease note: We may limit attendees per company to allow a wide cross section of our membership to celebrate with us the end of the year.
URL:https://inside.strata.community/event/christmas-party-3/
END:VEVENT
BEGIN:VEVENT
DTSTART;TZID=UTC:20221124T080000
DTEND;TZID=UTC:20221124T083000
DTSTAMP:20260426T003007
CREATED:20220925T173411Z
LAST-MODIFIED:20220925T173412Z
UID:3562-1669276800-1669278600@inside.strata.community
SUMMARY:SCA QLD End of Year Networking (Cairns)
DESCRIPTION:An evening for members to catch up\, reflect on the year with some festive cheer and network with other members\, in a casual setting. \n\n\n\nSCA (QLD) End of Year Networking is all about celebrating in a relaxed environment\, leaving the stress of work behind\, and taking the time to enjoy each other in a social setting.  
URL:https://inside.strata.community/event/sca-qld-end-of-year-networking-cairns/
ORGANIZER;CN="SCA (Qld)":MAILTO:admin.qld@strata.community
END:VEVENT
BEGIN:VEVENT
DTSTART;TZID=UTC:20221124T080000
DTEND;TZID=UTC:20221124T170000
DTSTAMP:20260426T003007
CREATED:20220908T145353Z
LAST-MODIFIED:20220908T145354Z
UID:3499-1669276800-1669309200@inside.strata.community
SUMMARY:Quarterly SAT Case Update
DESCRIPTION:Time TBC \n\n\n\nLearn about recent SAT cases and their significance to the strata industry in this information packed session.
URL:https://inside.strata.community/event/quarterly-sat-case-update/
ORGANIZER;CN="SCA (WA)":MAILTO:admin.wa@strata.community
END:VEVENT
BEGIN:VEVENT
DTSTART;TZID=UTC:20221123T173000
DTEND;TZID=UTC:20221123T203000
DTSTAMP:20260426T003007
CREATED:20220925T173255Z
LAST-MODIFIED:20220925T173256Z
UID:3560-1669224600-1669235400@inside.strata.community
SUMMARY:SCA QLD End of Year Networking (Townsville)
DESCRIPTION:An evening for members to catch up\, reflect on the year with some festive cheer and network with other members\, in a casual setting. \n\n\n\nSCA (QLD) End of Year Networking is all about celebrating in a relaxed environment\, leaving the stress of work behind\, and taking the time to enjoy each other in a social setting.  
URL:https://inside.strata.community/event/sca-qld-end-of-year-networking-townsville/
ORGANIZER;CN="SCA (Qld)":MAILTO:admin.qld@strata.community
END:VEVENT
BEGIN:VEVENT
DTSTART;TZID=UTC:20221120T080000
DTEND;TZID=UTC:20221122T170000
DTSTAMP:20260426T003007
CREATED:20220920T220640Z
LAST-MODIFIED:20220920T220641Z
UID:3534-1668931200-1669136400@inside.strata.community
SUMMARY:Principal's Retreat - MEMBERS ONLY
DESCRIPTION:Pre Drinks & 2 Day Program \n\n\n\nPrincipals play a vital role to promote appropriate\, reasonable\, fair\, respectful and courteous behaviour in the workplace at all times. Subject matter expert and facilitator\, Michelle Bihary\, will take you\, and fellow principal’s across Australia and New Zealand\, on a 2-day journey with theoretically informed\, practical solutions and strategies. Michelle’s approach can be implemented quickly and immediately to provide tangible results. 
URL:https://inside.strata.community/event/principals-retreat-members-only/
ORGANIZER;CN="SCA (SA/NT)":MAILTO:marketing@strata.community
END:VEVENT
BEGIN:VEVENT
DTSTART;TZID=UTC:20221118T180000
DTEND;TZID=UTC:20221118T233000
DTSTAMP:20260426T003007
CREATED:20220920T220435Z
LAST-MODIFIED:20220920T220437Z
UID:3532-1668794400-1668814200@inside.strata.community
SUMMARY:SCA (SA/NT) 2022 CHU Strata Community Awards
DESCRIPTION:Across eleven categories\, the annual SCA (SA/NT) Strata Community Awards for Excellence recognises and rewards businesses and individuals who make a significant contribution to the strata industry and community. The Gala Dinner and Awards Presentation will be held on Friday 18 November 2022.
URL:https://inside.strata.community/event/sca-sa-nt-2022-chu-strata-community-awards/
ORGANIZER;CN="SCA (SA/NT)":MAILTO:marketing@strata.community
END:VEVENT
BEGIN:VEVENT
DTSTART;TZID=UTC:20221118T120000
DTEND;TZID=UTC:20221118T133000
DTSTAMP:20260426T003007
CREATED:20220908T143458Z
LAST-MODIFIED:20220908T143459Z
UID:3479-1668772800-1668778200@inside.strata.community
SUMMARY:Round Table Discussion
DESCRIPTION:An opportunity to join an expert panel in discussions to seek out the practicalities and legalities of managing owners corporations.
URL:https://inside.strata.community/event/round-table-discussion/
ORGANIZER;CN="SCA (VIC)":MAILTO:info.vic@strata.community
END:VEVENT
BEGIN:VEVENT
DTSTART;TZID=UTC:20221117T100000
DTEND;TZID=UTC:20221117T110000
DTSTAMP:20260426T003007
CREATED:20220925T175342Z
LAST-MODIFIED:20220925T175344Z
UID:3589-1668679200-1668682800@inside.strata.community
SUMMARY:QLD CPD Webinar: Energy Embedded Networks in Depth
DESCRIPTION:There are sustainability target on the horizon and this in depth presentation can be of real value to all Strata managers. Join Ben Humphries as he presents an in depth presentation on energy sustainability options for Bodies Corporates\, including an up to date Electricity Market Update.
URL:https://inside.strata.community/event/qld-cpd-webinar-energy-embedded-networks-in-depth/
ORGANIZER;CN="SCA (Qld)":MAILTO:admin.qld@strata.community
END:VEVENT
BEGIN:VEVENT
DTSTART;TZID=UTC:20221111T180000
DTEND;TZID=UTC:20221111T233000
DTSTAMP:20260426T003007
CREATED:20220908T143340Z
LAST-MODIFIED:20220908T143342Z
UID:3477-1668189600-1668209400@inside.strata.community
SUMMARY:Strata Community Excellence Awards 2022
DESCRIPTION:Location: Pullman Melbourne  \n\n\n\nAcross eleven categories\, the annual 2022 CHU\, Macquarie Bank\, SCA (VIC) ​Strata Community Pillar Awards for Excellence recognises and rewards businesses and individuals who make a significant contribution to the strata industry and community. 
URL:https://inside.strata.community/event/strata-community-excellence-awards-2022/
ORGANIZER;CN="SCA (VIC)":MAILTO:info.vic@strata.community
END:VEVENT
BEGIN:VEVENT
DTSTART;TZID=UTC:20221110T100000
DTEND;TZID=UTC:20221110T110000
DTSTAMP:20260426T003007
CREATED:20220925T175219Z
LAST-MODIFIED:20220925T175220Z
UID:3587-1668074400-1668078000@inside.strata.community
SUMMARY:QLD CPD Webinar: Chapter 7: Financial Management
DESCRIPTION:Whether a seasoned Body Corporate Manager or learning the core essentials this presentation will be a part of the Strata Regulations and Act revisited series. Juliette Nairn will address section by section of the Body Corporate Legislation and Regulation Modules for Queensland\, our presenter will focus this session on Chapter 7 – Financial Management.
URL:https://inside.strata.community/event/qld-cpd-webinar-chapter-7-financial-management/
ORGANIZER;CN="SCA (Qld)":MAILTO:admin.qld@strata.community
END:VEVENT
BEGIN:VEVENT
DTSTART;TZID=UTC:20221109T173000
DTEND;TZID=UTC:20221109T203000
DTSTAMP:20260426T003007
CREATED:20220920T221708Z
LAST-MODIFIED:20220920T221709Z
UID:3548-1668015000-1668025800@inside.strata.community
SUMMARY:SCA (ACT) Strata Executive Committee Training
DESCRIPTION:ONLINE – 5:30PM – 8:30PM \n\n\n\nThis course is designed and dedicated to the education of Strata Executive Committee Members and Chair people. It teaches them about the importance of Governance\, Roles and Responsibilities\, Meetings and Effective Communication. It includes an overview of these areas of responsibility and provides clarity on the Committee’s role\, purpose and function.
URL:https://inside.strata.community/event/sca-act-strata-executive-committee-training-2/
ORGANIZER;CN="SCA(ACT)":MAILTO:education@strata.community
END:VEVENT
BEGIN:VEVENT
DTSTART;TZID=Australia/Sydney:20221108T093000
DTEND;TZID=Australia/Sydney:20221108T170000
DTSTAMP:20260426T003007
CREATED:20220925T175103Z
LAST-MODIFIED:20220925T175105Z
UID:3585-1667899800-1667926800@inside.strata.community
SUMMARY:QLD Strata Starter: BCM & Office Support Staff
DESCRIPTION:Just starting out in the body corporate industry\, a strata assistant or administration support staff? Our one-day focused course will provide an overview of the strata landscape\, familiarising attendees with industry terminology and everything you need to know to enter the strata industry. The Strata Starter is designed to give an overview of all things relevant for junior body corporate managers and those working in a body corporate firm. Covering the need to knows  from committee meetings\, disputes\, roles and responsibilities to financial arrangements – the Strata Starter is a compact introductory educational course for new body corporate managers. Please note: To retain Entry Level Membership with SCA (Qld) an Introduction to Strata course – such as the Strata Starter seminar\, must be completed within the first 12 months of SCA (Qld) membership. This is only a requirement for Entry Level Membership and not applicable to any other level of membership with SCA (Qld).
URL:https://inside.strata.community/event/qld-strata-starter-bcm-office-support-staff/
ORGANIZER;CN="SCA (Qld)":MAILTO:admin.qld@strata.community
END:VEVENT
BEGIN:VEVENT
DTSTART;TZID=Australia/Sydney:20221104T120000
DTEND;TZID=Australia/Sydney:20221104T123000
DTSTAMP:20260426T003007
CREATED:20220908T143206Z
LAST-MODIFIED:20220908T143207Z
UID:3475-1667563200-1667565000@inside.strata.community
SUMMARY:Vodcast: Committee Conversations
DESCRIPTION:Let’s start by discussing some controversial topics from a list that continues to grow.
URL:https://inside.strata.community/event/vodcast-committee-conversations-2/
ORGANIZER;CN="SCA (VIC)":MAILTO:info.vic@strata.community
END:VEVENT
BEGIN:VEVENT
DTSTART;TZID=UTC:20221104T080000
DTEND;TZID=UTC:20221104T170000
DTSTAMP:20260426T003007
CREATED:20220908T145224Z
LAST-MODIFIED:20220908T145225Z
UID:3497-1667548800-1667581200@inside.strata.community
SUMMARY:CHU SCA (WA) 2022 Convention and Awards
DESCRIPTION:Our biggest event of the year is locked and loaded to provide attendees with current trends. Followed by the Awards Gala\, this event is the biggest event of the year. 
URL:https://inside.strata.community/event/chu-sca-wa-2022-convention-and-awards/
ORGANIZER;CN="SCA (WA)":MAILTO:admin.wa@strata.community
END:VEVENT
BEGIN:VEVENT
DTSTART;TZID=UTC:20221026T140000
DTEND;TZID=UTC:20221026T173000
DTSTAMP:20260426T003007
CREATED:20220925T173137Z
LAST-MODIFIED:20220925T173138Z
UID:3558-1666792800-1666805400@inside.strata.community
SUMMARY:SCA QLD The Mini Debate (Brisbane)
DESCRIPTION:The Mini Debate provides industry news and updates\, showcasing the mini debate and exciting and innovative products and services to members across Queensland.
URL:https://inside.strata.community/event/sca-qld-the-mini-debate-brisbane/
ORGANIZER;CN="SCA (Qld)":MAILTO:admin.qld@strata.community
END:VEVENT
BEGIN:VEVENT
DTSTART;TZID=UTC:20221026T083000
DTEND;TZID=UTC:20221027T170000
DTSTAMP:20260426T003007
CREATED:20221005T104457Z
LAST-MODIFIED:20221005T104458Z
UID:3591-1666773000-1666890000@inside.strata.community
SUMMARY:SCA (NSW) Annual Convention
DESCRIPTION:Another year has passed and its time for our Annual Convention. One of our aims at SCA (NSW) is to make the impossible possible. We want to bust open doors and give you access to people and experiences you may have only ever dreamt about. This annual event offers valued networking opportunities and is supported by the very popular trade exhibition\, which showcases the latest products and services available to the strata industry.
URL:https://inside.strata.community/event/sca-nsw-annual-convention/
LOCATION:Hyatt Regency Sydney\, 161 Sussex St\, Sydney NSW 2000
END:VEVENT
BEGIN:VEVENT
DTSTART;TZID=UTC:20221025T100000
DTEND;TZID=UTC:20221025T110000
DTSTAMP:20260426T003007
CREATED:20220925T174906Z
LAST-MODIFIED:20220925T174919Z
UID:3582-1666692000-1666695600@inside.strata.community
SUMMARY:QLD CPD Webinar: Is it an EGM or AGM?
DESCRIPTION:This session will help put clarity on the grey areas between the EGM and AGM. Peter Hunt and Karen Thompson will address when an owner calls an EGM\, what do you need to look for to ensure its valid and what happens to those motions? In contrast when an AGM is held outside of the prescribed period what foreseeable impacts can occur in addition to the potential of the meeting being invalid. Going into the finer details of minutes\, returning officers\, caretaker agreements\, secret ballots and documenting\, this presentation is not to be missed.
URL:https://inside.strata.community/event/qld-cpd-webinar-is-it-an-egm-or-agm/
ORGANIZER;CN="SCA (Qld)":MAILTO:admin.qld@strata.community
END:VEVENT
BEGIN:VEVENT
DTSTART;TZID=UTC:20221021T180000
DTEND;TZID=UTC:20221021T233000
DTSTAMP:20260426T003007
CREATED:20220920T221431Z
LAST-MODIFIED:20220920T221432Z
UID:3546-1666375200-1666395000@inside.strata.community
SUMMARY:SCA (ACT) 2022 CHU Strata Community Awards
DESCRIPTION:Across eleven categories\, the annual SCA (ACT) Strata Community Awards for Excellence recognises and rewards businesses and individuals who make a significant contribution to the strata industry and community. The Gala Dinner and Awards Presentation will be held on Friday 21 October 2022.
URL:https://inside.strata.community/event/sca-act-2022-chu-strata-community-awards/
ORGANIZER;CN="SCA(ACT)":MAILTO:education@strata.community
END:VEVENT
BEGIN:VEVENT
DTSTART;TZID=UTC:20221021T140000
DTEND;TZID=UTC:20221021T163000
DTSTAMP:20260426T003007
CREATED:20220908T143044Z
LAST-MODIFIED:20220908T143045Z
UID:3472-1666360800-1666369800@inside.strata.community
SUMMARY:Education Reading Plans Beginner and Advanced
DESCRIPTION:Location: Mecure Hotel\, Cnr Flemington Road & Harker Street\, North Melbourne\, 3051 \n\n\n\n​ \n\n\n\nA face-to-face session and workshop that will highlight how to read and interpret plans (both beginner and advanced). Other areas of content; funding agreements\, stratum and company shares\, and car stackers. 
URL:https://inside.strata.community/event/education-reading-plans-beginner-and-advanced/
ORGANIZER;CN="SCA (VIC)":MAILTO:info.vic@strata.community
END:VEVENT
BEGIN:VEVENT
DTSTART;TZID=UTC:20221020T173000
DTEND;TZID=UTC:20221020T203000
DTSTAMP:20260426T003007
CREATED:20220908T142710Z
LAST-MODIFIED:20220908T142711Z
UID:3470-1666287000-1666297800@inside.strata.community
SUMMARY:Committee Training for Committee Members
DESCRIPTION:This course is designed for Committee Members. It teaches them about the importance of Governance\, Roles and Responsibilities\, Meetings and Effective Communication.
URL:https://inside.strata.community/event/committee-training-for-committee-members-2/
ORGANIZER;CN="SCA (VIC)":MAILTO:info.vic@strata.community
END:VEVENT
END:VCALENDAR