BEGIN:VCALENDAR
VERSION:2.0
PRODID:-//Strata Community - ECPv6.9.0//NONSGML v1.0//EN
CALSCALE:GREGORIAN
METHOD:PUBLISH
X-WR-CALNAME:Strata Community
X-ORIGINAL-URL:https://inside.strata.community
X-WR-CALDESC:Events for Strata Community
REFRESH-INTERVAL;VALUE=DURATION:PT1H
X-Robots-Tag:noindex
X-PUBLISHED-TTL:PT1H
BEGIN:VTIMEZONE
TZID:UTC
BEGIN:STANDARD
TZOFFSETFROM:+0000
TZOFFSETTO:+0000
TZNAME:UTC
DTSTART:20210101T000000
END:STANDARD
TZID:Australia/Sydney
BEGIN:STANDARD
TZOFFSETFROM:+1100
TZOFFSETTO:+1000
TZNAME:AEST
DTSTART:20210403T160000
END:STANDARD
BEGIN:DAYLIGHT
TZOFFSETFROM:+1000
TZOFFSETTO:+1100
TZNAME:AEDT
DTSTART:20211002T160000
END:DAYLIGHT
END:VTIMEZONE
BEGIN:VEVENT
DTSTART;TZID=UTC:20220414T080000
DTEND;TZID=UTC:20220414T170000
DTSTAMP:20260424T194500
CREATED:20210910T170505Z
LAST-MODIFIED:20210911T154446Z
UID:1148-1649923200-1649955600@inside.strata.community
SUMMARY:SCA (WA) Strata Starter for Lot Owners
DESCRIPTION:Time TBC – More information coming soon! \n\n\n\n\n\n\n\n\n\nhttps://www.wa.strata.community/wa-activities
URL:https://inside.strata.community/event/strata-starter-for-lot-owners-2/
CATEGORIES:Education,Events,Strata Resident
ORGANIZER;CN="SCA (WA)":MAILTO:admin.wa@strata.community
END:VEVENT
BEGIN:VEVENT
DTSTART;TZID=UTC:20220310T080000
DTEND;TZID=UTC:20220310T170000
DTSTAMP:20260424T194500
CREATED:20210910T165247Z
LAST-MODIFIED:20210911T154722Z
UID:1135-1646899200-1646931600@inside.strata.community
SUMMARY:SCA (WA) Committee Training for Owners
DESCRIPTION:Time TBC – More information coming soon! \n\n\n\n\n\n\n\n\n\nhttps://www.wa.strata.community/wa-activities
URL:https://inside.strata.community/event/committee-training-for-owners/
CATEGORIES:Education,Events,Strata Resident
ORGANIZER;CN="SCA (WA)":MAILTO:admin.wa@strata.community
END:VEVENT
BEGIN:VEVENT
DTSTART;TZID=UTC:20220216T080000
DTEND;TZID=UTC:20220216T170000
DTSTAMP:20260424T194500
CREATED:20210910T164128Z
LAST-MODIFIED:20210911T154900Z
UID:1125-1644998400-1645030800@inside.strata.community
SUMMARY:SCA (WA) Owner Forum - Maintaining your Property
DESCRIPTION:Time TBC – More information coming soon! \n\n\n\n\n\n\n\n\n\nhttps://www.wa.strata.community/wa-activities
URL:https://inside.strata.community/event/owner-forum-maintaining-your-property/
CATEGORIES:Education,Events,Strata Resident
ORGANIZER;CN="SCA (WA)":MAILTO:admin.wa@strata.community
END:VEVENT
BEGIN:VEVENT
DTSTART;TZID=UTC:20220120T080000
DTEND;TZID=UTC:20220120T170000
DTSTAMP:20260424T194500
CREATED:20210910T163626Z
LAST-MODIFIED:20210911T155013Z
UID:1121-1642665600-1642698000@inside.strata.community
SUMMARY:SCA (WA) Committee Training
DESCRIPTION:Time TBC – More information coming soon! \n\n\n\n\n\n\n\n\n\nhttps://www.wa.strata.community/wa-activities
URL:https://inside.strata.community/event/committee-training/
CATEGORIES:Education,Events,Strata Resident
ORGANIZER;CN="SCA (WA)":MAILTO:admin.wa@strata.community
END:VEVENT
BEGIN:VEVENT
DTSTART;TZID=UTC:20211104T120000
DTEND;TZID=UTC:20211105T120000
DTSTAMP:20260424T194500
CREATED:20210910T162258Z
LAST-MODIFIED:20210910T162259Z
UID:1106-1636027200-1636113600@inside.strata.community
SUMMARY:SCA (WA) Convention and Awards Night
DESCRIPTION:More information coming soon! \n\n\n\n\n\n\n\n\n\nhttps://www.wa.strata.community/wa-activities
URL:https://inside.strata.community/event/sca-wa-convention-and-awards-night/
CATEGORIES:Education,Events,Networking,Strata Professional,Strata Resident
ORGANIZER;CN="SCA (WA)":MAILTO:admin.wa@strata.community
END:VEVENT
BEGIN:VEVENT
DTSTART;TZID=Australia/Sydney:20211028T173000
DTEND;TZID=Australia/Sydney:20211028T200000
DTSTAMP:20260424T194500
CREATED:20210913T153035Z
LAST-MODIFIED:20210913T154641Z
UID:1381-1635442200-1635451200@inside.strata.community
SUMMARY:SCA (VIC) Committee Training for Committee Members
DESCRIPTION:This course is designed and dedicated to the education of Committee Members. It teaches them about the importance of Governance\, Roles and Responsibilities\, Meetings and Effective Communication. Delivered online\, it includes an overview of these areas of responsibility and provides clarity of the OC’s and the Committee’s role\, purpose and function.
URL:https://inside.strata.community/event/committee-training-for-committee-members/
CATEGORIES:Education,Events,Strata Resident
ORGANIZER;CN="SCA (VIC)":MAILTO:info.vic@strata.community
END:VEVENT
BEGIN:VEVENT
DTSTART;TZID=UTC:20211013T180000
DTEND;TZID=UTC:20211013T200000
DTSTAMP:20260424T194500
CREATED:20210910T160822Z
LAST-MODIFIED:20210911T155209Z
UID:1032-1634148000-1634155200@inside.strata.community
SUMMARY:SCA (WA) Owner Forum - Financials
DESCRIPTION:Owner Forum Financials provides strata lot owners with some great advice to navigate the financial affairs of the strata company. \n\n\n\n\n\n\n\n\n\n \n\n\n\nhttps://members.strata.community/StrataMembers/Event_Display_NoCalendar.aspx?EventKey=WA04082021&WebsiteKey=3097fe46-904a-47c1-9b88-b345785e894f
URL:https://inside.strata.community/event/owner-forum-financials/
LOCATION:Firehouse Restaurant 249-263 Great Eastern Hwy Belmont 6104
CATEGORIES:Education,Events,Strata Resident
ORGANIZER;CN="SCA (WA)":MAILTO:admin.wa@strata.community
END:VEVENT
BEGIN:VEVENT
DTSTART;TZID=UTC:20211012T120000
DTEND;TZID=UTC:20211012T130000
DTSTAMP:20260424T194500
CREATED:20210911T162659Z
LAST-MODIFIED:20210911T162701Z
UID:1302-1634040000-1634043600@inside.strata.community
SUMMARY:SCA (VIC) Cladding Safety Victoria Industry Webinar
DESCRIPTION:With projects complete or underway on more than 200 of Victoria’s highest-risk residential buildings\, join Cladding Safety Victoria CEO Dan O’Brien for a briefing about the latest developments and key challenges facing Victoria’s cladding rectification program. \n\n\n\n\n\n\n\n\n\nhttps://members.strata.community/iCore/Events/Event_Display.aspx?EventKey=VIC121021&WebsiteKey=3097fe46-904a-47c1-9b88-b345785e894f
URL:https://inside.strata.community/event/sca-vic-cladding-safety-victoria-industry-webinar/
LOCATION:Online: Zoom
CATEGORIES:Education,Events,Strata Professional,Strata Resident
ORGANIZER;CN="SCA (VIC)":MAILTO:info.vic@strata.community
END:VEVENT
BEGIN:VEVENT
DTSTART;TZID=UTC:20211001T123000
DTEND;TZID=UTC:20211001T130000
DTSTAMP:20260424T194500
CREATED:20210911T162430Z
LAST-MODIFIED:20210911T162432Z
UID:1300-1633091400-1633093200@inside.strata.community
SUMMARY:SCA (VIC) Vodcast: Committee Conversations
DESCRIPTION:Further details to be announced\, for now please save the date. \n\n\n\n\n\n\n\n\n\nhttps://members.strata.community/iCore/Events/Event_Display.aspx?EventKey=VIC011021&WebsiteKey=3097fe46-904a-47c1-9b88-b345785e894f
URL:https://inside.strata.community/event/sca-vic-vodcast-committee-conversations/
LOCATION:Online: Zoom
CATEGORIES:Education,Events,Strata Professional,Strata Resident
ORGANIZER;CN="SCA (VIC)":MAILTO:info.vic@strata.community
END:VEVENT
BEGIN:VEVENT
DTSTART;TZID=UTC:20210930T170000
DTEND;TZID=UTC:20210930T200000
DTSTAMP:20260424T194500
CREATED:20210910T154908Z
LAST-MODIFIED:20210911T155320Z
UID:1008-1633021200-1633032000@inside.strata.community
SUMMARY:SCA (WA) Strata Starter for Lot Owners
DESCRIPTION:The Strata Starter course is an introduction to strata for people who own a strata titled property.  The course will equip owners with a better understanding of their rights and obligations\, and the role of the strata committee. \n\n\n\n\n\n\n\n\n\nhttps://members.strata.community/StrataMembers/Event_Display_NoCalendar.aspx?EventKey=WA30092021&WebsiteKey=3097fe46-904a-47c1-9b88-b345785e894f
URL:https://inside.strata.community/event/strata-starter-for-lot-owners/
LOCATION:Firehouse Restaurant 249-263 Great Eastern Hwy Belmont 6104
CATEGORIES:Education,Events,Strata Resident
ORGANIZER;CN="SCA (WA)":MAILTO:admin.wa@strata.community
END:VEVENT
BEGIN:VEVENT
DTSTART;TZID=UTC:20210928T173000
DTEND;TZID=UTC:20210928T200000
DTSTAMP:20260424T194500
CREATED:20210911T165712Z
LAST-MODIFIED:20210911T165713Z
UID:1313-1632850200-1632859200@inside.strata.community
SUMMARY:SCA (VIC) Committee Training for Committee Members
DESCRIPTION:This course is designed and dedicated to the education of Committee Members. It teaches them about the importance of Governance\, Roles and Responsibilities\, Meetings and Effective Communication. Delivered online\, it includes an overview of these areas of responsibility and provides clarity of the OC’s and the Committee’s role\, purpose and function. \n\n\n\n\n\n\n\n\n\nhttps://members.strata.community/iCore/Events/Event_Display.aspx?EventKey=VIC281021&WebsiteKey=3097fe46-904a-47c1-9b88-b345785e894f
URL:https://inside.strata.community/event/sca-vic-committee-training-for-committee-members/
LOCATION:Online: Zoom
CATEGORIES:Education,Events,Strata Resident
ORGANIZER;CN="SCA (VIC)":MAILTO:info.vic@strata.community
END:VEVENT
BEGIN:VEVENT
DTSTART;TZID=UTC:20210928T080000
DTEND;TZID=UTC:20210928T100000
DTSTAMP:20260424T194500
CREATED:20210910T155641Z
LAST-MODIFIED:20210911T155343Z
UID:1018-1632816000-1632823200@inside.strata.community
SUMMARY:SCA (WA) Strata Insurance Report Presentation
DESCRIPTION:Strata Community Association (SCA) invites you to join us for a free event to go through the Western Australian data from the industry-first report\, A data-driven holistic understanding of strata insurance in Australian and New Zealand.  \n\n\n\nPublished by Deakin University and commissioned by Strata Community Association\, the long-awaited report offers a never-before-seen look into the strata insurance industry across the ANZ region and examines the vital role of strata managers in delivering insurance-related services. \n\n\n\n\n\n\n\n\n\n \n\n\n\nhttps://members.strata.community/iCore/Events/Event_Display.aspx?EventKey=WA280921&WebsiteKey=3097fe46-904a-47c1-9b88-b345785e894f
URL:https://inside.strata.community/event/strata-insurance-report-presentation/
LOCATION:Technology Park Function Centre 2 Brodie-Hall Dr Bentley 6102
CATEGORIES:Education,Events,Insurance,Strata Professional,Strata Resident
ORGANIZER;CN="SCA (WA)":MAILTO:admin.wa@strata.community
END:VEVENT
BEGIN:VEVENT
DTSTART;TZID=UTC:20210923T110000
DTEND;TZID=UTC:20210923T115000
DTSTAMP:20260424T194500
CREATED:20210910T173946Z
LAST-MODIFIED:20210910T173947Z
UID:1162-1632394800-1632397800@inside.strata.community
SUMMARY:SCA (Qld) Webinar: Lot Owner FAQs
DESCRIPTION:Do you have questions that keep coming up from your lot owners? Getting questions about owner vs body corporate responsibility? Maybe it’s about their entitlements as a lot owner? Or is there a question that you want answered? Let us know and we’ll cover them all! \n\n\n\n\n\n\n\n\n\nhttps://members.strata.community/iCore/Events/Event_Display.aspx?EventKey=QLD2309212&WebsiteKey=3097fe46-904a-47c1-9b88-b345785e894f
URL:https://inside.strata.community/event/sca-qld-webinar-lot-owner-faqs/
LOCATION:Level 9\, 410 Queen Street Brisbane\, QLD 4000 AUSTRALIA
CATEGORIES:Education,Events,Strata Resident
ORGANIZER;CN="SCA (Qld)":MAILTO:admin.qld@strata.community
END:VEVENT
END:VCALENDAR